BEGIN:VCALENDAR
VERSION:2.0
PRODID:-// - ECPv6.15.11//NONSGML v1.0//EN
CALSCALE:GREGORIAN
METHOD:PUBLISH
X-ORIGINAL-URL:https://eckankar-ci.org
X-WR-CALDESC:Évènements pour 
REFRESH-INTERVAL;VALUE=DURATION:PT1H
X-Robots-Tag:noindex
X-PUBLISHED-TTL:PT1H
BEGIN:VTIMEZONE
TZID:UTC
BEGIN:STANDARD
TZOFFSETFROM:+0000
TZOFFSETTO:+0000
TZNAME:UTC
DTSTART:20220101T000000
END:STANDARD
END:VTIMEZONE
BEGIN:VEVENT
DTSTART;TZID=UTC:20231226T190000
DTEND;TZID=UTC:20231231T210000
DTSTAMP:20260423T233209
CREATED:20171114T100007Z
LAST-MODIFIED:20230307T161315Z
UID:282-1703617200-1704056400@eckankar-ci.org
SUMMARY:Mieux servir le Mahanta
DESCRIPTION:
URL:https://eckankar-ci.org/event/candle-light-meditation/
CATEGORIES:EVENEMENTS ECK DE L’AVENTURE DE L’AME
ATTACH;FMTTYPE=image/jpeg:https://eckankar-ci.org/wp-content/uploads/2023/02/Dimanche.jpg
END:VEVENT
END:VCALENDAR